BEGIN:VCALENDAR
VERSION:2.0
METHOD:PUBLISH
PRODID:-//Causal Sarl//LionsBase Calendar 5.0.x-dev//DE
TZID:Europe/Zurich
BEGIN:VEVENT
UID:31820_20260530@artecon.lions.at
TRANSP:TRANSPARENT
X-FUNAMBOL-ALLDAY:1
X-MICROSOFT-CDO-ALLDAYEVENT:1
DTSTAMP:20260423T123538Z
DTSTART;VALUE=DATE:20260530
DTEND;VALUE=DATE:20260531
ORGANIZER:LC Feldkirchen Ossiachersee intern
SUMMARY:Golfturnier
DESCRIPTION:
END:VEVENT
END:VCALENDAR
