BEGIN:VCALENDAR
VERSION:2.0
METHOD:PUBLISH
PRODID:-//Causal Sarl//LionsBase Calendar 5.0.x-dev//DE
TZID:Europe/Zurich
BEGIN:VEVENT
UID:33444_20260620@artecon.lions.at
DTSTAMP:20260423T123404Z
DTSTART:20260620T160000Z
DTEND:20260620T215900Z
ORGANIZER:LC Maria Wörth
LOCATION:Seebühne Maria Wörth
SUMMARY:Benefitz-Konzert Maria Wörth
DESCRIPTION:Einladung zum Benefizkonzert auf der Seebühne Ma
 ria Wörth\nam 20. Juni 2026 \n\nSehr geehrte Lions-Freundinn
 en und Lions-Freunde\, \n\nnach dem großen Erfolg im vergang
 enen Jahr freuen wir uns ganz besonders\, Euch auch 2026 zu 
 einer außergewöhnlichen Veranstaltung einladen zu dürfen: \n
 \nBenefizkonzert\nam Samstag\, dem 20. Juni 2026\nauf der Se
 ebühne Maria Wörth – direkt am Wörthersee \n\nIm stimmungsvo
 llen Ambiente der Seebühne Maria Wörth erwartet euch ein Abe
 nd voller musikalischer Highlights - Gänsehautmomente garant
 iert! \n\nVeranstalter ist der Lions Club Maria Wörth\, und 
 es ist uns ein großes Anliegen\, möglichst viele Lions-Freun
 de aus nah und fern bei diesem besonderen Ereignis begrüßen 
 zu dürfen.  \n\nDas Konzert bietet nicht nur kulturellen Hoc
 hgenuss\, sondern auch Gelegenheit zur Begegnung\, zum Netzw
 erken und zum gemeinsamen Genießen. \n\nFür Förderer und Unt
 erstützer gibt es auch dieses Jahr ein exklusives Sponsorpak
 et\, das im Vorfeld gebucht werden kann. Die Details dazu en
 tnehmt bitte dem beiliegenden Anhang. \n\nWir freuen uns auf
  euer Kommen und auf einen unvergesslichen Abend im Zeichen 
 der Musik und der Lions-Gemeinschaft. \n\nMit lionistischen 
 Grüßen\, \n\nLions Club Maria Wörth
END:VEVENT
END:VCALENDAR
