BEGIN:VCALENDAR
VERSION:2.0
METHOD:PUBLISH
PRODID:-//Causal Sarl//LionsBase Calendar 5.0.x-dev//DE
TZID:Europe/Zurich
BEGIN:VEVENT
UID:33533_20260611@artecon.lions.at
DTSTAMP:20260423T123404Z
DTSTART:20260611T170000Z
DTEND:20260611T200000Z
ORGANIZER:LC Feldkirchen Ossiachersee intern
SUMMARY:Meeting
DESCRIPTION:
END:VEVENT
END:VCALENDAR
