BEGIN:VCALENDAR
VERSION:2.0
METHOD:PUBLISH
PRODID:-//Causal Sarl//LionsBase Calendar 5.0.x-dev//DE
TZID:Europe/Zurich
BEGIN:VEVENT
UID:33849_20260506@artecon.lions.at
DTSTAMP:20260423T123328Z
DTSTART:20260506T170000Z
DTEND:20260506T213000Z
ORGANIZER:LC Bleiburg Kulturstadt
LOCATION:Bleiburg
SUMMARY:Besichtigung Schloss Bleiburg
DESCRIPTION:
END:VEVENT
END:VCALENDAR
