BEGIN:VCALENDAR
VERSION:2.0
METHOD:PUBLISH
PRODID:-//Causal Sarl//LionsBase Calendar 5.0.x-dev//EN
TZID:Europe/Zurich
BEGIN:VEVENT
UID:32938_20260609@artecon.lions.at
DTSTAMP:20260423T162324Z
DTSTART:20260609T163000Z
DTEND:20260609T200000Z
ORGANIZER:LC Spittal an der Drau intern
LOCATION:Millstatt See- Villa
SUMMARY:Präsidentschaftsübergabe
DESCRIPTION:Präsidentschaftsübergabe - See-Villa Millstatt
END:VEVENT
END:VCALENDAR
