BEGIN:VCALENDAR
VERSION:2.0
METHOD:PUBLISH
PRODID:-//Causal Sarl//LionsBase Calendar 5.0.x-dev//EN
TZID:Europe/Zurich
BEGIN:VEVENT
UID:33445_20260704@artecon.lions.at
DTSTAMP:20260423T162423Z
DTSTART:20260704T053900Z
DTEND:20260704T070900Z
ORGANIZER:LC Maria Wörth
LOCATION:Schlossareal in Keutschach
SUMMARY:Dorffest Keutschach
DESCRIPTION:
END:VEVENT
END:VCALENDAR
