BEGIN:VCALENDAR
VERSION:2.0
METHOD:PUBLISH
PRODID:-//Causal Sarl//LionsBase Calendar 5.0.x-dev//EN
TZID:Europe/Zurich
BEGIN:VEVENT
UID:33534_20260625@artecon.lions.at
DTSTAMP:20260423T162423Z
DTSTART:20260625T170000Z
DTEND:20260625T200000Z
ORGANIZER:LC Feldkirchen Ossiachersee intern
SUMMARY:Lesung von Krimiauthor Bruno KELZ
DESCRIPTION:Vorstellung seines neuen Buches: Titel: Berger X
 Y (un)gelöst - Mörderischer Wiesenmarkt
END:VEVENT
END:VCALENDAR
