BEGIN:VCALENDAR
VERSION:2.0
METHOD:PUBLISH
PRODID:-//Causal Sarl//LionsBase Calendar 5.0.x-dev//EN
TZID:Europe/Zurich
BEGIN:VEVENT
UID:33598_20260602@artecon.lions.at
DTSTAMP:20260423T164913Z
DTSTART:20260602T170000Z
DTEND:20260602T190000Z
ORGANIZER:LC Dobratsch
SUMMARY:Reguläre Sitzung
DESCRIPTION:
END:VEVENT
END:VCALENDAR
