BEGIN:VCALENDAR
VERSION:2.0
METHOD:PUBLISH
PRODID:-//Causal Sarl//LionsBase Calendar 5.0.x-dev//EN
TZID:Europe/Zurich
BEGIN:VEVENT
UID:33599_20260621@artecon.lions.at
DTSTAMP:20260423T162424Z
DTSTART:20260621T100000Z
DTEND:20260621T130000Z
ORGANIZER:LC Dobratsch
SUMMARY:Ämterübergabe
DESCRIPTION:Veranstaltungsort: \n\nTschmelitschhof \n\nAviso
  Ämterübergabe / Details folgen
END:VEVENT
END:VCALENDAR
