BEGIN:VCALENDAR
VERSION:2.0
METHOD:PUBLISH
PRODID:-//Causal Sarl//LionsBase Calendar 5.0.x-dev//EN
TZID:Europe/Zurich
BEGIN:VEVENT
UID:33856_20260504@artecon.lions.at
DTSTAMP:20260423T165838Z
DTSTART:20260504T170000Z
DTEND:20260504T190000Z
ORGANIZER:LC Klagenfurt Carinthia
LOCATION:Clublokal - Enoteca Trentatre\, Universitätsstraße 
 33\, 9020 Klagenfurt
SUMMARY:Clubabend zum Thema &quot\;Ökosoziale Agrarpolitik i
 n Österreich - Zukunftsmodell für Europa?&quot\;
DESCRIPTION:Referent Herr Dipl.-Ing Mag Bernhard Rebernig
END:VEVENT
END:VCALENDAR
